BEGIN:VCALENDAR
VERSION:2.0
PRODID:-//DGM Landesverband Bayern e. V. - ECPv6.15.20//NONSGML v1.0//EN
CALSCALE:GREGORIAN
METHOD:PUBLISH
X-WR-CALNAME:DGM Landesverband Bayern e. V.
X-ORIGINAL-URL:https://dgm-bayern.de
X-WR-CALDESC:Veranstaltungen für DGM Landesverband Bayern e. V.
REFRESH-INTERVAL;VALUE=DURATION:PT1H
X-Robots-Tag:noindex
X-PUBLISHED-TTL:PT1H
BEGIN:VTIMEZONE
TZID:Europe/Berlin
BEGIN:DAYLIGHT
TZOFFSETFROM:+0100
TZOFFSETTO:+0200
TZNAME:CEST
DTSTART:20230326T010000
END:DAYLIGHT
BEGIN:STANDARD
TZOFFSETFROM:+0200
TZOFFSETTO:+0100
TZNAME:CET
DTSTART:20231029T010000
END:STANDARD
BEGIN:DAYLIGHT
TZOFFSETFROM:+0100
TZOFFSETTO:+0200
TZNAME:CEST
DTSTART:20240331T010000
END:DAYLIGHT
BEGIN:STANDARD
TZOFFSETFROM:+0200
TZOFFSETTO:+0100
TZNAME:CET
DTSTART:20241027T010000
END:STANDARD
BEGIN:DAYLIGHT
TZOFFSETFROM:+0100
TZOFFSETTO:+0200
TZNAME:CEST
DTSTART:20250330T010000
END:DAYLIGHT
BEGIN:STANDARD
TZOFFSETFROM:+0200
TZOFFSETTO:+0100
TZNAME:CET
DTSTART:20251026T010000
END:STANDARD
END:VTIMEZONE
BEGIN:VEVENT
DTSTART;TZID=Europe/Berlin:20240214T190000
DTEND;TZID=Europe/Berlin:20240214T210000
DTSTAMP:20260423T165007
CREATED:20240103T092940Z
LAST-MODIFIED:20240125T090531Z
UID:11923-1707937200-1707944400@dgm-bayern.de
SUMMARY:Moderierter Gesprächskreis (nur) für Angehörige von ALS-Betroffenen
DESCRIPTION:Info und Anmeldung: \nAngelika Eiler\, Tel. 0931 31-84074\, E-mail: eiler@dgm-bayern.de \nAnmeldeschluss 13.02.2024 \n 
URL:https://dgm-bayern.de/termin/14-02-19-21-uhr-online-wuerzburg-moderierter-gespraechskreis-nur-fuer-angehoerige-von-als-betroffenen/
LOCATION:online (Würzburg)
END:VEVENT
BEGIN:VEVENT
DTSTART;TZID=Europe/Berlin:20240223T143000
DTEND;TZID=Europe/Berlin:20240223T170000
DTSTAMP:20260423T165007
CREATED:20231224T141746Z
LAST-MODIFIED:20231224T141831Z
UID:11626-1708698600-1708707600@dgm-bayern.de
SUMMARY:Erlangen\, Treffen (nur) für ALS-Angehörige
DESCRIPTION:Info und Anmeldung:\nDGM Sozialberatung: Susanne Werkmeister\nTelefon: 09131 853-4512\, Email: Werkmeister@dgm-bayern.de
URL:https://dgm-bayern.de/termin/erlangen-treffen-nur-fuer-als-angehoerige/
END:VEVENT
BEGIN:VEVENT
DTSTART;TZID=Europe/Berlin:20240229T141500
DTEND;TZID=Europe/Berlin:20240229T181500
DTSTAMP:20260423T165007
CREATED:20240103T093735Z
LAST-MODIFIED:20240227T111941Z
UID:11927-1709216100-1709230500@dgm-bayern.de
SUMMARY:Würzburg\, Tag der seltenen Erkrankungen - in Verbindung mit 10 Jahre ZESE Würzburg
DESCRIPTION:Der Tag der seltenen Erkrankungen wird in Würzburg in Verbindung mit dem 10jährigen Bestehen des ZESE (Zentrum für seltene Erkrankungen) begangen. \nWo?       97080 Würzburg\, Oberdürrbacher Str. 6\, im ZOM (Zentrum für operative Medizin) Gebäude A1 /A2 – Hörsaal und Magistrale \nWann?   am 29.Februar 2024 von 14.15 Uhr bis 18.15 Uhr \nHerzliche Einladung an alle Interessierte – Anmeldung bis spätestens 26.02. \nbei Angelika Eiler\, 0931 31-84074\, eiler@dgm-bayern.de oder \nTamara Schömig\, 0931 201-23499\, schoemig@dgm-bayern.de \nProgramm des Festsymposiums zum Anschauen / Herunterladen /Ausdrucken HIER
URL:https://dgm-bayern.de/termin/wuerzburg-tag-der-seltenen-erkrankungen-in-verbindung-mit-10-jahre-zese-wuerzburg/
LOCATION:Würzburg
END:VEVENT
END:VCALENDAR