BEGIN:VCALENDAR
VERSION:2.0
PRODID:-//DGM Landesverband Bayern e. V. - ECPv6.15.20//NONSGML v1.0//EN
CALSCALE:GREGORIAN
METHOD:PUBLISH
X-WR-CALNAME:DGM Landesverband Bayern e. V.
X-ORIGINAL-URL:https://dgm-bayern.de
X-WR-CALDESC:Veranstaltungen für DGM Landesverband Bayern e. V.
REFRESH-INTERVAL;VALUE=DURATION:PT1H
X-Robots-Tag:noindex
X-PUBLISHED-TTL:PT1H
BEGIN:VTIMEZONE
TZID:Europe/Berlin
BEGIN:DAYLIGHT
TZOFFSETFROM:+0100
TZOFFSETTO:+0200
TZNAME:CEST
DTSTART:20230326T010000
END:DAYLIGHT
BEGIN:STANDARD
TZOFFSETFROM:+0200
TZOFFSETTO:+0100
TZNAME:CET
DTSTART:20231029T010000
END:STANDARD
BEGIN:DAYLIGHT
TZOFFSETFROM:+0100
TZOFFSETTO:+0200
TZNAME:CEST
DTSTART:20240331T010000
END:DAYLIGHT
BEGIN:STANDARD
TZOFFSETFROM:+0200
TZOFFSETTO:+0100
TZNAME:CET
DTSTART:20241027T010000
END:STANDARD
BEGIN:DAYLIGHT
TZOFFSETFROM:+0100
TZOFFSETTO:+0200
TZNAME:CEST
DTSTART:20250330T010000
END:DAYLIGHT
BEGIN:STANDARD
TZOFFSETFROM:+0200
TZOFFSETTO:+0100
TZNAME:CET
DTSTART:20251026T010000
END:STANDARD
END:VTIMEZONE
BEGIN:VEVENT
DTSTART;TZID=Europe/Berlin:20240504T140000
DTEND;TZID=Europe/Berlin:20240505T140000
DTSTAMP:20260423T113503
CREATED:20231224T143429Z
LAST-MODIFIED:20231224T143429Z
UID:11630-1714831200-1714917600@dgm-bayern.de
SUMMARY:Wartaweil am Ammersee\, Informations- und Begegnungswochenende für Eltern mit Kindern und Jugendlichen mit Muskeldystrophie Duchenne
DESCRIPTION:Info und Anmeldung: \nDGM\, Sekretariat: \nManuela Thaller\, Tel. 089 4400-57410\, Email: thaller@dgm-bayern.de \nAnmeldeschluss: 29.02.2024 \nDie Einladung finden Sie hier:\nAusschreibung-4.-und-5.-Mai-Wartaweil-
URL:https://dgm-bayern.de/termin/wartaweil-am-ammersee-informations-und-begegnungswochenende-fuer-eltern-mit-kindern-und-jugendlichen-mit-muskeldystrophie-duchenne/
LOCATION:Wartaweil in Herrsching am Ammersee
END:VEVENT
BEGIN:VEVENT
DTSTART;TZID=Europe/Berlin:20240522T190000
DTEND;TZID=Europe/Berlin:20240522T210000
DTSTAMP:20260423T113503
CREATED:20240103T100117Z
LAST-MODIFIED:20240125T090647Z
UID:11946-1716404400-1716411600@dgm-bayern.de
SUMMARY:Moderierter Gesprächskreis (nur) für Angehörige von ALS-Betroffenen
DESCRIPTION:Info und Anmeldung: \nAngelika Eiler\, Tel. 0931 31-84074\, E-mail: eiler@dgm-bayern.de \nAnmeldeschluss: 21.05.2024
URL:https://dgm-bayern.de/termin/wuerzburg-moderierter-gespraechskreis-nur-fuer-angehoerige-von-als-betroffenen/
LOCATION:online (Würzburg)
END:VEVENT
BEGIN:VEVENT
DTSTART;TZID=Europe/Berlin:20240529T190000
DTEND;TZID=Europe/Berlin:20240529T210000
DTSTAMP:20260423T113503
CREATED:20240103T095647Z
LAST-MODIFIED:20240125T090329Z
UID:11942-1717009200-1717016400@dgm-bayern.de
SUMMARY:Moderierter Erfahrungsaustausch für Muskelkranke und Angehörige
DESCRIPTION:Info und Anmeldung: \nAngelika Eiler\, Tel. 0931 31-84074\, E-mail: eiler@dgm-bayern.de \nAnmeldeschluss: 28.05.2024
URL:https://dgm-bayern.de/termin/online-wuerzburg-moderierter-erfahrungsaustausch-fuer-muskelkranke-und-angehoerige/
LOCATION:online (Würzburg)
END:VEVENT
END:VCALENDAR