BEGIN:VCALENDAR
VERSION:2.0
PRODID:-//DGM Landesverband Bayern e. V. - ECPv6.15.20//NONSGML v1.0//EN
CALSCALE:GREGORIAN
METHOD:PUBLISH
X-ORIGINAL-URL:https://dgm-bayern.de
X-WR-CALDESC:Veranstaltungen für DGM Landesverband Bayern e. V.
REFRESH-INTERVAL;VALUE=DURATION:PT1H
X-Robots-Tag:noindex
X-PUBLISHED-TTL:PT1H
BEGIN:VTIMEZONE
TZID:Europe/Berlin
BEGIN:DAYLIGHT
TZOFFSETFROM:+0100
TZOFFSETTO:+0200
TZNAME:CEST
DTSTART:20230326T010000
END:DAYLIGHT
BEGIN:STANDARD
TZOFFSETFROM:+0200
TZOFFSETTO:+0100
TZNAME:CET
DTSTART:20231029T010000
END:STANDARD
BEGIN:DAYLIGHT
TZOFFSETFROM:+0100
TZOFFSETTO:+0200
TZNAME:CEST
DTSTART:20240331T010000
END:DAYLIGHT
BEGIN:STANDARD
TZOFFSETFROM:+0200
TZOFFSETTO:+0100
TZNAME:CET
DTSTART:20241027T010000
END:STANDARD
BEGIN:DAYLIGHT
TZOFFSETFROM:+0100
TZOFFSETTO:+0200
TZNAME:CEST
DTSTART:20250330T010000
END:DAYLIGHT
BEGIN:STANDARD
TZOFFSETFROM:+0200
TZOFFSETTO:+0100
TZNAME:CET
DTSTART:20251026T010000
END:STANDARD
END:VTIMEZONE
BEGIN:VEVENT
DTSTART;TZID=Europe/Berlin:20240608T140000
DTEND;TZID=Europe/Berlin:20240608T170000
DTSTAMP:20260423T101248
CREATED:20240416T102647Z
LAST-MODIFIED:20240424T061249Z
UID:12275-1717855200-1717866000@dgm-bayern.de
SUMMARY:ALS-Angehörigentreffen zusammen mit Betroffenen
DESCRIPTION:Es wird schriftlich eingeladen. \n  \nRückfragen bei: \nElisabeth Schäfer\, Tel. 089 9578209\, E-mail: schaefer@dgm-bayern.de
URL:https://dgm-bayern.de/termin/als-angehoerigentreffen-zusammen-mit-betroffenen/
LOCATION:Café Scheidplatz\, Belgradstr. 104\, 80804 München
END:VEVENT
BEGIN:VEVENT
DTSTART;TZID=Europe/Berlin:20240619T190000
DTEND;TZID=Europe/Berlin:20240619T210000
DTSTAMP:20260423T101248
CREATED:20240328T084620Z
LAST-MODIFIED:20240605T111232Z
UID:12254-1718823600-1718830800@dgm-bayern.de
SUMMARY:Vortrag: „Alltagskrise oder psychische Krise – Wann besteht Handlungsbedarf und wo finde ich Hilfe“
DESCRIPTION:Leitung: Dipl. Soz. Päd.(FH) Angelika Eiler \nReferent: Dr. Daniel Kilian\, Koordinator des Krisennetzwerks Unterfranken beim Bezirk Unterfranken \nAnmeldung bei: Tamara Schömig\, Verwaltung DGM-Beratung Würzburg\, E-mail: schoemig@dgm-bayern.de oder Tel. 0931 201-23499 (Di-Do vormittags) \nAnmeldeschluss: 12.06.2024 \n  \nInhalt: \nWir alle kennen krisenhafte Erfahrungen. Sie gehören zum Wechselspiel des Lebens.\nIn der Regel schaffen wir es Probleme zu lösen\, Entscheidungen zu treffen oder Situationen durchzustehen. Doch woran erkennen wir\, dass ein krisenhaftes Erleben bei uns oder anderen darüber hinaus geht und mehr Aufmerksamkeit bzw. professionelle Unterstützung braucht. Über diese Frage und die  verfügbaren Unterstützungsangebote soll es bei diesem Vortrag gehen. \nWichtig: dieser Vortrag ist selbst kein therapeutisches Angebot. \n  \nAusschreibung: Alltagskrise oder psychische Krise
URL:https://dgm-bayern.de/termin/vortrag-alltagskrise-oder-psychische-krise-wann-besteht-handlungsbedarf-und-wo-finde-ich-hilfe/
LOCATION:online (Würzburg)
END:VEVENT
BEGIN:VEVENT
DTSTART;TZID=Europe/Berlin:20240621T143000
DTEND;TZID=Europe/Berlin:20240621T170000
DTSTAMP:20260423T101248
CREATED:20231224T144747Z
LAST-MODIFIED:20231224T144747Z
UID:11638-1718980200-1718989200@dgm-bayern.de
SUMMARY:Erlangen\, Treffen (nur) für ALS-Angehörige
DESCRIPTION:Info und Anmeldung:\nDGM Sozialberatung: Susanne Werkmeister\nTelefon: 09131 853-4512\, Email: Werkmeister@dgm-bayern.de
URL:https://dgm-bayern.de/termin/erlangen-treffen-nur-fuer-als-angehoerige-2/
END:VEVENT
BEGIN:VEVENT
DTSTART;TZID=Europe/Berlin:20240622T140000
DTEND;TZID=Europe/Berlin:20240622T140000
DTSTAMP:20260423T101248
CREATED:20240103T100232Z
LAST-MODIFIED:20240604T092641Z
UID:11948-1719064800-1719064800@dgm-bayern.de
SUMMARY:Würzburg\, Treffen für Familien mit muskelkranken Kindern
DESCRIPTION:Das Treffen ist eine schöne Gelegenheit für Familien sich kennenzulernen und sich über die besondere Situation – das Leben mit einem muskelkranken Kind – auszutauschen. \nAnmeldung:                bis spätestens 18.06.2024 mit Angabe von Personenzahl\, Alter des Kindes/der Kinder\, Rollstuhl ja/nein \nbei Angelika Eiler\, Tel. (AB)  0931 3184074 oder E-mail: eiler@dgm-bayern.de \n  \nNähere Informationen HIER clicken
URL:https://dgm-bayern.de/termin/wuerzburg-elterngespraechskreis-oder-familientreffen/
LOCATION:Würzburg
END:VEVENT
END:VCALENDAR