BEGIN:VCALENDAR
VERSION:2.0
PRODID:-//DGM Landesverband Bayern e. V. - ECPv6.15.20//NONSGML v1.0//EN
CALSCALE:GREGORIAN
METHOD:PUBLISH
X-WR-CALNAME:DGM Landesverband Bayern e. V.
X-ORIGINAL-URL:https://dgm-bayern.de
X-WR-CALDESC:Veranstaltungen für DGM Landesverband Bayern e. V.
REFRESH-INTERVAL;VALUE=DURATION:PT1H
X-Robots-Tag:noindex
X-PUBLISHED-TTL:PT1H
BEGIN:VTIMEZONE
TZID:Europe/Berlin
BEGIN:DAYLIGHT
TZOFFSETFROM:+0100
TZOFFSETTO:+0200
TZNAME:CEST
DTSTART:20230326T010000
END:DAYLIGHT
BEGIN:STANDARD
TZOFFSETFROM:+0200
TZOFFSETTO:+0100
TZNAME:CET
DTSTART:20231029T010000
END:STANDARD
BEGIN:DAYLIGHT
TZOFFSETFROM:+0100
TZOFFSETTO:+0200
TZNAME:CEST
DTSTART:20240331T010000
END:DAYLIGHT
BEGIN:STANDARD
TZOFFSETFROM:+0200
TZOFFSETTO:+0100
TZNAME:CET
DTSTART:20241027T010000
END:STANDARD
BEGIN:DAYLIGHT
TZOFFSETFROM:+0100
TZOFFSETTO:+0200
TZNAME:CEST
DTSTART:20250330T010000
END:DAYLIGHT
BEGIN:STANDARD
TZOFFSETFROM:+0200
TZOFFSETTO:+0100
TZNAME:CET
DTSTART:20251026T010000
END:STANDARD
END:VTIMEZONE
BEGIN:VEVENT
DTSTART;TZID=Europe/Berlin:20240816T143000
DTEND;TZID=Europe/Berlin:20240816T170000
DTSTAMP:20260423T071246
CREATED:20240228T102608Z
LAST-MODIFIED:20241205T162030Z
UID:12202-1723818600-1723827600@dgm-bayern.de
SUMMARY:(verschoben) Erlangen\, Gesprächskreis für ALS-Betroffene und Angehörige
DESCRIPTION:Info und Anmeldung: \nDGM Sozialberatung: \nSusanne Werkmeister\nTelefon: 09131 853-4512\,\nEmail: Werkmeister@dgm-bayern.de
URL:https://dgm-bayern.de/termin/erlangen-gespraechskreis-fuer-als-betroffene-und-angehoerige/
END:VEVENT
BEGIN:VEVENT
DTSTART;TZID=Europe/Berlin:20240821T190000
DTEND;TZID=Europe/Berlin:20240821T210000
DTSTAMP:20260423T071246
CREATED:20240709T063000Z
LAST-MODIFIED:20240731T075343Z
UID:12620-1724266800-1724274000@dgm-bayern.de
SUMMARY:Moderierter Gesprächskreis (nur) für Angehörige von ALS-Betroffenen (Würzburg) online
DESCRIPTION:Info und Anmeldung: \nAngelika Eiler\, Tel. 0931 31-84074\, E-mail: eiler@dgm-bayern.de \nAnmeldeschluss: 20.08.2024
URL:https://dgm-bayern.de/termin/moderierter-gespraechskreis-nur-fuer-angehoerige-von-als-betroffenen-online/
LOCATION:online (Würzburg)
END:VEVENT
BEGIN:VEVENT
DTSTART;VALUE=DATE:20240823
DTEND;VALUE=DATE:20240825
DTSTAMP:20260423T071246
CREATED:20240529T113707Z
LAST-MODIFIED:20240731T111040Z
UID:12482-1724371200-1724543999@dgm-bayern.de
SUMMARY:Abgesagt ! Kinästhetics für pflegende Angehörige
DESCRIPTION:  \n  \n 
URL:https://dgm-bayern.de/termin/kinaesthetics-fuer-pflegende-angehoerige/
LOCATION:Würzburg
END:VEVENT
BEGIN:VEVENT
DTSTART;TZID=Europe/Berlin:20240831T093000
DTEND;TZID=Europe/Berlin:20240831T153000
DTSTAMP:20260423T071246
CREATED:20240704T070857Z
LAST-MODIFIED:20240723T090616Z
UID:12604-1725096600-1725118200@dgm-bayern.de
SUMMARY:ABGESAGT: "Pompe Tag" im LMU München
DESCRIPTION:  \n 
URL:https://dgm-bayern.de/termin/pompe-tag-im-lmu-muenchen/
LOCATION:München
END:VEVENT
END:VCALENDAR