BEGIN:VCALENDAR
VERSION:2.0
PRODID:-//DGM Landesverband Bayern e. V. - ECPv6.15.20//NONSGML v1.0//EN
CALSCALE:GREGORIAN
METHOD:PUBLISH
X-ORIGINAL-URL:https://dgm-bayern.de
X-WR-CALDESC:Veranstaltungen für DGM Landesverband Bayern e. V.
REFRESH-INTERVAL;VALUE=DURATION:PT1H
X-Robots-Tag:noindex
X-PUBLISHED-TTL:PT1H
BEGIN:VTIMEZONE
TZID:Europe/Berlin
BEGIN:DAYLIGHT
TZOFFSETFROM:+0100
TZOFFSETTO:+0200
TZNAME:CEST
DTSTART:20230326T010000
END:DAYLIGHT
BEGIN:STANDARD
TZOFFSETFROM:+0200
TZOFFSETTO:+0100
TZNAME:CET
DTSTART:20231029T010000
END:STANDARD
BEGIN:DAYLIGHT
TZOFFSETFROM:+0100
TZOFFSETTO:+0200
TZNAME:CEST
DTSTART:20240331T010000
END:DAYLIGHT
BEGIN:STANDARD
TZOFFSETFROM:+0200
TZOFFSETTO:+0100
TZNAME:CET
DTSTART:20241027T010000
END:STANDARD
BEGIN:DAYLIGHT
TZOFFSETFROM:+0100
TZOFFSETTO:+0200
TZNAME:CEST
DTSTART:20250330T010000
END:DAYLIGHT
BEGIN:STANDARD
TZOFFSETFROM:+0200
TZOFFSETTO:+0100
TZNAME:CET
DTSTART:20251026T010000
END:STANDARD
END:VTIMEZONE
BEGIN:VEVENT
DTSTART;TZID=Europe/Berlin:20241016T200000
DTEND;TZID=Europe/Berlin:20241016T220000
DTSTAMP:20260423T035706
CREATED:20240709T065340Z
LAST-MODIFIED:20240709T065447Z
UID:12626-1729108800-1729116000@dgm-bayern.de
SUMMARY:Erfahrungsaustausch für Eltern muskelkranker Kinder
DESCRIPTION:Info und Anmeldung: \nAngelika Eiler\, Tel. 0931 30-84074\, E-mail: eiler@dgm-bayern.de \nAnmeldeschluss: 15.10.2024
URL:https://dgm-bayern.de/termin/erfahrungsaustausch-fuer-eltern-muskelkranker-kinder-online/
LOCATION:online (Würzburg)
END:VEVENT
BEGIN:VEVENT
DTSTART;TZID=Europe/Berlin:20241025T143000
DTEND;TZID=Europe/Berlin:20241025T170000
DTSTAMP:20260423T035706
CREATED:20231224T150543Z
LAST-MODIFIED:20240109T120317Z
UID:11643-1729866600-1729875600@dgm-bayern.de
SUMMARY:Erlangen\, Treffen (nur) für ALS-Angehörige
DESCRIPTION:Info und Anmeldung:\nDGM Sozialberatung: Susanne Werkmeister\nTelefon: 09131 853-4512\,\nEmail: Werkmeister@dgm-bayern.de
URL:https://dgm-bayern.de/termin/erlangen-treffen-nur-fuer-als-angehoerige-3/
END:VEVENT
BEGIN:VEVENT
DTSTART;VALUE=DATE:20241026
DTEND;VALUE=DATE:20241027
DTSTAMP:20260423T035706
CREATED:20240709T070053Z
LAST-MODIFIED:20240709T070053Z
UID:12629-1729900800-1729987199@dgm-bayern.de
SUMMARY:Seminartag für Ehrenamtliche des Landesverbandes und Interessierte
DESCRIPTION:
URL:https://dgm-bayern.de/termin/seminartag-fuer-ehrenamtliche-des-landesverbandes-und-interessierte-2/
LOCATION:Würzburg
END:VEVENT
END:VCALENDAR