BEGIN:VCALENDAR
VERSION:2.0
PRODID:-//DGM Landesverband Bayern e. V. - ECPv6.15.20//NONSGML v1.0//EN
CALSCALE:GREGORIAN
METHOD:PUBLISH
X-WR-CALNAME:DGM Landesverband Bayern e. V.
X-ORIGINAL-URL:https://dgm-bayern.de
X-WR-CALDESC:Veranstaltungen für DGM Landesverband Bayern e. V.
REFRESH-INTERVAL;VALUE=DURATION:PT1H
X-Robots-Tag:noindex
X-PUBLISHED-TTL:PT1H
BEGIN:VTIMEZONE
TZID:Europe/Berlin
BEGIN:DAYLIGHT
TZOFFSETFROM:+0100
TZOFFSETTO:+0200
TZNAME:CEST
DTSTART:20230326T010000
END:DAYLIGHT
BEGIN:STANDARD
TZOFFSETFROM:+0200
TZOFFSETTO:+0100
TZNAME:CET
DTSTART:20231029T010000
END:STANDARD
BEGIN:DAYLIGHT
TZOFFSETFROM:+0100
TZOFFSETTO:+0200
TZNAME:CEST
DTSTART:20240331T010000
END:DAYLIGHT
BEGIN:STANDARD
TZOFFSETFROM:+0200
TZOFFSETTO:+0100
TZNAME:CET
DTSTART:20241027T010000
END:STANDARD
BEGIN:DAYLIGHT
TZOFFSETFROM:+0100
TZOFFSETTO:+0200
TZNAME:CEST
DTSTART:20250330T010000
END:DAYLIGHT
BEGIN:STANDARD
TZOFFSETFROM:+0200
TZOFFSETTO:+0100
TZNAME:CET
DTSTART:20251026T010000
END:STANDARD
END:VTIMEZONE
BEGIN:VEVENT
DTSTART;TZID=Europe/Berlin:20241127T190000
DTEND;TZID=Europe/Berlin:20241127T210000
DTSTAMP:20260423T022624
CREATED:20240709T070305Z
LAST-MODIFIED:20240731T075517Z
UID:12631-1732734000-1732741200@dgm-bayern.de
SUMMARY:Moderierter Gesprächskreis (nur) für Angehörige von ALS-Betroffenen (Würzburg) online
DESCRIPTION:Info und Anmeldung: \nAngelika Eiler\, Tel. 0931 31-84074\, E-mail: eiler@dgm-bayern.de \nAnmeldeschluss: 26.11.2024
URL:https://dgm-bayern.de/termin/moderierter-gespraechskreis-nur-fuer-angehoerige-von-als-betroffenen/
LOCATION:online (Würzburg)
END:VEVENT
BEGIN:VEVENT
DTSTART;TZID=Europe/Berlin:20241129T143000
DTEND;TZID=Europe/Berlin:20241129T170000
DTSTAMP:20260423T022624
CREATED:20240706T165051Z
LAST-MODIFIED:20240706T165051Z
UID:12617-1732890600-1732899600@dgm-bayern.de
SUMMARY:ALS-Gesprächskreis für ALS-Betroffene und Angehörige
DESCRIPTION:Info und Anmeldung: \nDGM Sozialberatung: \nSusanne Werkmeister\nTelefon: 09131 853-4512\,\nEmail: Werkmeister@dgm-bayern.de
URL:https://dgm-bayern.de/termin/als-gespraechskreis-fuer-als-betroffene-und-angehoerige/
END:VEVENT
END:VCALENDAR