BEGIN:VCALENDAR
VERSION:2.0
PRODID:-//DGM Landesverband Bayern e. V. - ECPv6.15.20//NONSGML v1.0//EN
CALSCALE:GREGORIAN
METHOD:PUBLISH
X-ORIGINAL-URL:https://dgm-bayern.de
X-WR-CALDESC:Veranstaltungen für DGM Landesverband Bayern e. V.
REFRESH-INTERVAL;VALUE=DURATION:PT1H
X-Robots-Tag:noindex
X-PUBLISHED-TTL:PT1H
BEGIN:VTIMEZONE
TZID:Europe/Berlin
BEGIN:DAYLIGHT
TZOFFSETFROM:+0100
TZOFFSETTO:+0200
TZNAME:CEST
DTSTART:20240331T010000
END:DAYLIGHT
BEGIN:STANDARD
TZOFFSETFROM:+0200
TZOFFSETTO:+0100
TZNAME:CET
DTSTART:20241027T010000
END:STANDARD
BEGIN:DAYLIGHT
TZOFFSETFROM:+0100
TZOFFSETTO:+0200
TZNAME:CEST
DTSTART:20250330T010000
END:DAYLIGHT
BEGIN:STANDARD
TZOFFSETFROM:+0200
TZOFFSETTO:+0100
TZNAME:CET
DTSTART:20251026T010000
END:STANDARD
BEGIN:DAYLIGHT
TZOFFSETFROM:+0100
TZOFFSETTO:+0200
TZNAME:CEST
DTSTART:20260329T010000
END:DAYLIGHT
BEGIN:STANDARD
TZOFFSETFROM:+0200
TZOFFSETTO:+0100
TZNAME:CET
DTSTART:20261025T010000
END:STANDARD
END:VTIMEZONE
BEGIN:VEVENT
DTSTART;TZID=Europe/Berlin:20250212T190000
DTEND;TZID=Europe/Berlin:20250212T210000
DTSTAMP:20260422T212753
CREATED:20241212T122528Z
LAST-MODIFIED:20250326T093831Z
UID:12899-1739386800-1739394000@dgm-bayern.de
SUMMARY:Online - Gesprächskreis (nur) für Angehörige von ALS-Betroffenen
DESCRIPTION:Der Gesprächskreis wird moderiert und geleitet von Angelika Eiler. \nDen Teilnahme-Link erhalten Sie nach Anmeldung. \n  \nInfo und Anmeldung: \nDGM Sozialberatung: Angelika Eiler\, Telefon: 0931 31-84074\, Email: eiler@dgm-bayern.de \n bitte anmelden bis 11.02.2025
URL:https://dgm-bayern.de/termin/wuerzburg-online-gespraechskreis-nur-fuer-angehoerige-von-als-betroffenen/
END:VEVENT
BEGIN:VEVENT
DTSTART;VALUE=DATE:20250228
DTEND;VALUE=DATE:20250301
DTSTAMP:20260422T212753
CREATED:20241212T123726Z
LAST-MODIFIED:20241212T123726Z
UID:12903-1740700800-1740787199@dgm-bayern.de
SUMMARY:Würzburg\, Tag der Seltenen Erkrankungen
DESCRIPTION:Büchertisch zum Tag der seltenen Erkrankungen in der Stadtbücherei Würzburg. \nEinfach vorbeikommen und schmökern. \nAm Büchertisch gibt es auch die Möglichkeit zu einem austauschenden oder informellen Gespräch.
URL:https://dgm-bayern.de/termin/wuerzburg-tag-der-seltenen-erkrankungen/
LOCATION:Stadtbücherei im Falkenhaus\, Marktplatz 9\, 97070 Würzburg\, Marktplatz 9\, Würzburg\, Bayern\, 97070
END:VEVENT
BEGIN:VEVENT
DTSTART;TZID=Europe/Berlin:20250228T143000
DTEND;TZID=Europe/Berlin:20250228T170000
DTSTAMP:20260422T212753
CREATED:20250109T100513Z
LAST-MODIFIED:20250109T100725Z
UID:13004-1740753000-1740762000@dgm-bayern.de
SUMMARY:Erlangen\, ALS-Gesprächskreis (nur) für Angehörige
DESCRIPTION:Info und Anmeldung:\nDGM Sozialberatung: Natalja Schützeichel\nTelefon: 09131 853-4512\,\nEmail: schuetzeichel@dgm-bayern.de
URL:https://dgm-bayern.de/termin/erlangen-als-gespraechskreis-nur-fuer-angehoerige/
LOCATION:Erlangen
END:VEVENT
END:VCALENDAR