BEGIN:VCALENDAR
VERSION:2.0
PRODID:-//DGM Landesverband Bayern e. V. - ECPv6.15.20//NONSGML v1.0//EN
CALSCALE:GREGORIAN
METHOD:PUBLISH
X-WR-CALNAME:DGM Landesverband Bayern e. V.
X-ORIGINAL-URL:https://dgm-bayern.de
X-WR-CALDESC:Veranstaltungen für DGM Landesverband Bayern e. V.
REFRESH-INTERVAL;VALUE=DURATION:PT1H
X-Robots-Tag:noindex
X-PUBLISHED-TTL:PT1H
BEGIN:VTIMEZONE
TZID:Europe/Berlin
BEGIN:DAYLIGHT
TZOFFSETFROM:+0100
TZOFFSETTO:+0200
TZNAME:CEST
DTSTART:20240331T010000
END:DAYLIGHT
BEGIN:STANDARD
TZOFFSETFROM:+0200
TZOFFSETTO:+0100
TZNAME:CET
DTSTART:20241027T010000
END:STANDARD
BEGIN:DAYLIGHT
TZOFFSETFROM:+0100
TZOFFSETTO:+0200
TZNAME:CEST
DTSTART:20250330T010000
END:DAYLIGHT
BEGIN:STANDARD
TZOFFSETFROM:+0200
TZOFFSETTO:+0100
TZNAME:CET
DTSTART:20251026T010000
END:STANDARD
BEGIN:DAYLIGHT
TZOFFSETFROM:+0100
TZOFFSETTO:+0200
TZNAME:CEST
DTSTART:20260329T010000
END:DAYLIGHT
BEGIN:STANDARD
TZOFFSETFROM:+0200
TZOFFSETTO:+0100
TZNAME:CET
DTSTART:20261025T010000
END:STANDARD
END:VTIMEZONE
BEGIN:VEVENT
DTSTART;TZID=Europe/Berlin:20250510T140000
DTEND;TZID=Europe/Berlin:20250510T140000
DTSTAMP:20260422T163108
CREATED:20250416T064648Z
LAST-MODIFIED:20250416T064717Z
UID:13192-1746885600-1746885600@dgm-bayern.de
SUMMARY:München\, ALS-Treffen Café Scheidplatz
DESCRIPTION:Offenes Treffen für  ALS Betroffene und Angehörige. \nNähere Informationen bitte  HIER klicken \nAnmeldung bis 30.04.2025 an: \nManuela Thaller\, Tel. 089 4400-57410 oder E-mail: thaller@dgm-bayern.de
URL:https://dgm-bayern.de/termin/muenchen-als-treffen-cafe-scheidplatz/
LOCATION:Café Scheidplatz\, Belgradstr. 104\, 80804 München
END:VEVENT
BEGIN:VEVENT
DTSTART;VALUE=DATE:20250516
DTEND;VALUE=DATE:20250519
DTSTAMP:20260422T163108
CREATED:20241212T124526Z
LAST-MODIFIED:20241212T124526Z
UID:12911-1747353600-1747612799@dgm-bayern.de
SUMMARY:Mitglieder-Tage der DGM in Hohenroda
DESCRIPTION:
URL:https://dgm-bayern.de/termin/mitglieder-tage-der-dgm-in-hohenroda/
END:VEVENT
BEGIN:VEVENT
DTSTART;TZID=Europe/Berlin:20250522T190000
DTEND;TZID=Europe/Berlin:20250522T210000
DTSTAMP:20260422T163108
CREATED:20241212T124318Z
LAST-MODIFIED:20250513T101822Z
UID:12909-1747940400-1747947600@dgm-bayern.de
SUMMARY:Online - Gesprächskreis (nur) für Angehörige von ALS-Betroffenen
DESCRIPTION:ACHTUNG   Terminänderung !!! \ndieser Gesprächskreis wird vom 14.05. auf 22.05. verschoben. Bitte um Beachtung. \n  \nDer Gesprächskreis wird moderiert und geleitet von Angelika Eiler. \nDen Teilnahme-Link erhalten Sie nach Anmeldung. \n  \nInfo und Anmeldung: \nDGM Sozialberatung: Angelika Eiler\, Telefon: 0931 31-84074\, Email: eiler@dgm-bayern.de \n bitte anmelden bis 21.05.2025
URL:https://dgm-bayern.de/termin/wuerzburg-online-gespraechskreis-nur-fuer-angehoerige-von-als-betroffene/
LOCATION:Online
END:VEVENT
BEGIN:VEVENT
DTSTART;TZID=Europe/Berlin:20250523T143000
DTEND;TZID=Europe/Berlin:20250523T170000
DTSTAMP:20260422T163108
CREATED:20250109T100949Z
LAST-MODIFIED:20250109T101003Z
UID:13006-1748010600-1748019600@dgm-bayern.de
SUMMARY:Erlangen\, ALS-Gesprächskreis für Betroffene und Angehörige
DESCRIPTION:Info und Anmeldung:\nDGM Sozialberatung: Natalja Schützeichel\nTelefon: 09131 853-4512\,\nEmail: schuetzeichel@dgm-bayern.de
URL:https://dgm-bayern.de/termin/erlangen-als-gespraechskreis-fuer-betroffene-und-angehoerige/
LOCATION:Erlangen
END:VEVENT
BEGIN:VEVENT
DTSTART;TZID=Europe/Berlin:20250523T150000
DTEND;TZID=Europe/Berlin:20250523T150000
DTSTAMP:20260422T163108
CREATED:20250416T065731Z
LAST-MODIFIED:20250416T065736Z
UID:13195-1748012400-1748012400@dgm-bayern.de
SUMMARY:München\, Müttertreffen für muskelkranke Jugendliche und junge Erwachsene
DESCRIPTION:Das Treffen dient einem offenem Austausch und wird von Frau Deuter und Frau Wrensch begleitet. \nEinladung:    HIER klicken \nAnmeldung bis 14.05.2025 bei Manuela Thaller\, Tel. 089 4400-57410 oder per E-Mail: thaller@dgm-bayern.de
URL:https://dgm-bayern.de/termin/muenchen-muettertreffen-fuer-muskelkranke-jugendliche-und-junge-erwachsene/
LOCATION:Friedrich-Baur-Institut\, Ziemssenstr. 1\, 80336 München
END:VEVENT
BEGIN:VEVENT
DTSTART;TZID=Europe/Berlin:20250524T100000
DTEND;TZID=Europe/Berlin:20250524T170000
DTSTAMP:20260422T163108
CREATED:20250513T100807Z
LAST-MODIFIED:20250513T101011Z
UID:13256-1748080800-1748106000@dgm-bayern.de
SUMMARY:Powerchair Football der 1. Bundesliga bei München
DESCRIPTION:Am 24.05.2025\, gastiert die 1. Bundesliga in der IImtalhalle Reichertshausen in der Nähe von München. \nJeder Interessierte kann zuschauen\, der Eintritt ist frei \nFreuen Sie sich auf spannende Spiele im E-Rollstuhl-Fußball
URL:https://dgm-bayern.de/termin/powerchair-football-der-1-bundesliga-bei-muenchen/
LOCATION:IImtalhalle Reichertshausen\, Paindorfer Straße 10\, 85293 Reichertshausen\, Germany
END:VEVENT
BEGIN:VEVENT
DTSTART;TZID=Europe/Berlin:20250527T150000
DTEND;TZID=Europe/Berlin:20250527T170000
DTSTAMP:20260422T163108
CREATED:20250306T101150Z
LAST-MODIFIED:20250326T093737Z
UID:13107-1748358000-1748365200@dgm-bayern.de
SUMMARY:Online -  ALS-Treffen für Betroffene und Angehörige zum Thema invasive Beatmung
DESCRIPTION:Beim Online-Treffen für Betroffene und Angehörige wird es um die Besonderheiten des Lebens mit invasiver Beatmung gehen. Die Ehefrau eines ALS-Betroffenen\, der mit Beatmung lebt\, wird von ihren Erfahrungen berichten. \nBei diesem Treffen sind Menschen willkommen\, die bereits mit dieser Thematik befasst sind\, aber auch diejenigen\, die sich darüber grundsätzlich informieren wollen. Wie gewohnt wird Dipl. Soz.Päd. Angelika Eiler diesen Austausch moderieren. \nInfo und Anmeldung: Angelika Eiler Tel. 0931 31-84074 oder E-mail eiler@dgm-bayern.de \nAnmeldeschluss:  So.\, 25.05.2025
URL:https://dgm-bayern.de/termin/online-wuerzburg-als-treffen-fuer-betroffene-und-angehoerige-zum-thema-invasive-beatmung/
LOCATION:Online
END:VEVENT
END:VCALENDAR