BEGIN:VCALENDAR
VERSION:2.0
PRODID:-//DGM Landesverband Bayern e. V. - ECPv6.15.20//NONSGML v1.0//EN
CALSCALE:GREGORIAN
METHOD:PUBLISH
X-ORIGINAL-URL:https://dgm-bayern.de
X-WR-CALDESC:Veranstaltungen für DGM Landesverband Bayern e. V.
REFRESH-INTERVAL;VALUE=DURATION:PT1H
X-Robots-Tag:noindex
X-PUBLISHED-TTL:PT1H
BEGIN:VTIMEZONE
TZID:Europe/Berlin
BEGIN:DAYLIGHT
TZOFFSETFROM:+0100
TZOFFSETTO:+0200
TZNAME:CEST
DTSTART:20240331T010000
END:DAYLIGHT
BEGIN:STANDARD
TZOFFSETFROM:+0200
TZOFFSETTO:+0100
TZNAME:CET
DTSTART:20241027T010000
END:STANDARD
BEGIN:DAYLIGHT
TZOFFSETFROM:+0100
TZOFFSETTO:+0200
TZNAME:CEST
DTSTART:20250330T010000
END:DAYLIGHT
BEGIN:STANDARD
TZOFFSETFROM:+0200
TZOFFSETTO:+0100
TZNAME:CET
DTSTART:20251026T010000
END:STANDARD
BEGIN:DAYLIGHT
TZOFFSETFROM:+0100
TZOFFSETTO:+0200
TZNAME:CEST
DTSTART:20260329T010000
END:DAYLIGHT
BEGIN:STANDARD
TZOFFSETFROM:+0200
TZOFFSETTO:+0100
TZNAME:CET
DTSTART:20261025T010000
END:STANDARD
END:VTIMEZONE
BEGIN:VEVENT
DTSTART;TZID=Europe/Berlin:20250704T090000
DTEND;TZID=Europe/Berlin:20250706T170000
DTSTAMP:20260422T132018
CREATED:20241018T145532Z
LAST-MODIFIED:20241018T145532Z
UID:12819-1751619600-1751821200@dgm-bayern.de
SUMMARY:Segelwochenende in Gmunden (Anmeldung bis 16.12.2024)
DESCRIPTION:Sämtliche Informationen und den Bericht über das Segelwochenende 2024 finden Sie hier. \nInteressierte Familien richten ihre Anmeldung bitte an: \nFrau Manuela Thaller: thaller@dgm-bayern.de\, 089/4400-57410. \nDie Plätze werden nach Datum der Anmeldung vergeben. Das Wochenende findet mit mindestens 10 verbindlichen Anmeldungen bis 16.12.2024 statt. Nach Anmeldung folgen weitere Details bezüglich Organisation und Logistik. \nWir freuen uns schon heute auf das nächste erlebnisreiche Segelwochenende in Gmunden.
URL:https://dgm-bayern.de/termin/segelwochenende-in-gmunden-anmeldung-bis-16-12-2024/
LOCATION:Gmunden
END:VEVENT
BEGIN:VEVENT
DTSTART;VALUE=DATE:20250727
DTEND;VALUE=DATE:20250728
DTSTAMP:20260422T132018
CREATED:20241212T124814Z
LAST-MODIFIED:20250710T104005Z
UID:12913-1753574400-1753660799@dgm-bayern.de
SUMMARY:Würzburg\, Familienausflug für Alle
DESCRIPTION:Familienausflug für alle\, natürlich auch für Singles oder Paare 🙂 \nZiel: Biohof Gensler\, Rhön \nNähere Informationen- hier klicken \nAnmeldung bis 21.07.2025 mit Angabe der Personenanzahl an: \nDGM Sozialberatung: Angelika Eiler\, Telefon: 0931 31-84074\, Email: eiler@dgm-bayern.de
URL:https://dgm-bayern.de/termin/wuerzburg-familienausflug-fuer-alle/
END:VEVENT
END:VCALENDAR