BEGIN:VCALENDAR
VERSION:2.0
PRODID:-//DGM Landesverband Bayern e. V. - ECPv6.15.20//NONSGML v1.0//EN
CALSCALE:GREGORIAN
METHOD:PUBLISH
X-ORIGINAL-URL:https://dgm-bayern.de
X-WR-CALDESC:Veranstaltungen für DGM Landesverband Bayern e. V.
REFRESH-INTERVAL;VALUE=DURATION:PT1H
X-Robots-Tag:noindex
X-PUBLISHED-TTL:PT1H
BEGIN:VTIMEZONE
TZID:Europe/Berlin
BEGIN:DAYLIGHT
TZOFFSETFROM:+0100
TZOFFSETTO:+0200
TZNAME:CEST
DTSTART:20240331T010000
END:DAYLIGHT
BEGIN:STANDARD
TZOFFSETFROM:+0200
TZOFFSETTO:+0100
TZNAME:CET
DTSTART:20241027T010000
END:STANDARD
BEGIN:DAYLIGHT
TZOFFSETFROM:+0100
TZOFFSETTO:+0200
TZNAME:CEST
DTSTART:20250330T010000
END:DAYLIGHT
BEGIN:STANDARD
TZOFFSETFROM:+0200
TZOFFSETTO:+0100
TZNAME:CET
DTSTART:20251026T010000
END:STANDARD
BEGIN:DAYLIGHT
TZOFFSETFROM:+0100
TZOFFSETTO:+0200
TZNAME:CEST
DTSTART:20260329T010000
END:DAYLIGHT
BEGIN:STANDARD
TZOFFSETFROM:+0200
TZOFFSETTO:+0100
TZNAME:CET
DTSTART:20261025T010000
END:STANDARD
END:VTIMEZONE
BEGIN:VEVENT
DTSTART;TZID=Europe/Berlin:20250806T190000
DTEND;TZID=Europe/Berlin:20250806T210000
DTSTAMP:20260422T120440
CREATED:20241212T124959Z
LAST-MODIFIED:20250710T102329Z
UID:12915-1754506800-1754514000@dgm-bayern.de
SUMMARY:Online - Gesprächskreis (nur) für Angehörige von ALS-Betroffene
DESCRIPTION:Der Gesprächskreis wird moderiert von Angelika Eiler. \nDen Teilnahme-Link erhalten Sie nach Anmeldung. \n  \nInfo und Anmeldung: \nDGM Sozialberatung: Angelika Eiler\, Telefon: 0931 31-84074\, Email: eiler@dgm-bayern.de \n bitte anmelden bis 05.08.2025
URL:https://dgm-bayern.de/termin/wuerzburg-online-gespraechskreis-nur-fuer-angehoerige-von-als-betroffene-2/
END:VEVENT
BEGIN:VEVENT
DTSTART;TZID=Europe/Berlin:20250807T160000
DTEND;TZID=Europe/Berlin:20250807T193000
DTSTAMP:20260422T120440
CREATED:20250710T095652Z
LAST-MODIFIED:20250710T102705Z
UID:13405-1754582400-1754595000@dgm-bayern.de
SUMMARY:ALS-Gesprächskreis für Betroffene\, Angehörige und Interessierte in Rummelsberg
DESCRIPTION:Info:\nNatalja Schützeichel\nTel. 09131 85-34512 \nAnmeldung über Krankenhaus Rummelsberg:\nJanine Gemereth\nE-mail: KRU-neuroevents@sana.de \nAnmeldeschluss: 31.07.2025 \nLink:  Programm
URL:https://dgm-bayern.de/termin/als-gespraechskreis-fuer-betroffene-angehoerige-und-interessierte-in-rummelsberg/
LOCATION:Krankenhaus Rummelsberg\, Rummelsberg 71\, Schwarzenbruck\, 90592
END:VEVENT
END:VCALENDAR